BEGIN:VCALENDAR
VERSION:2.0
PRODID:-//wp-events-plugin.com//7.2.3.1//EN
TZID:Europe/Berlin
X-WR-TIMEZONE:Europe/Berlin
BEGIN:VEVENT
UID:7@urologie-gestalten-digital.de
DTSTART;TZID=Europe/Berlin:20210114T183000
DTEND;TZID=Europe/Berlin:20210114T190000
DTSTAMP:20201202T091813Z
URL:https://urologie-gestalten-digital.de/veranstaltungen/webinar-update-k
 assenabrechnung-labor-sinn-und-rentabilitaet-baden-wuerttemberg/
SUMMARY:Webinar Update Kassenabrechnung | Labor - Sinn und Rentabilität | 
 Baden-Württemberg
DESCRIPTION:Mit der freundlichen Unterstützung von Dr. Pfleger haben wir d
 ie bundesweite Webinar-Reihe „Update Kassenabrechnung“ ins Leben geruf
 en. Hier erhalten Sie quartalsweise Informationen zur Abrechnung gezielt a
 uf Ihren KV-Bereich zugeschnitten.\n\nDieses Webinar ist auch für Ärzte 
 und Ärztinnen interessant\, die keine O-III-Laborleistungen erbringen.\n\
 nJe nach Region werden die Webinare von Katrin Nitz und Ludmilla Kapahnke 
 gehalten. Nutzen Sie gerne die Chance\, sich auf diesem wichtigen Terrain 
 stets aktuell zu halten.\n\n\n\nJetzt anmelden\n\n&nbsp\;
CATEGORIES:Arzt &amp; Ärztin
END:VEVENT
BEGIN:VTIMEZONE
TZID:Europe/Berlin
X-LIC-LOCATION:Europe/Berlin
BEGIN:STANDARD
DTSTART:20201025T020000
TZOFFSETFROM:+0200
TZOFFSETTO:+0100
TZNAME:CET
END:STANDARD
END:VTIMEZONE
END:VCALENDAR