BEGIN:VCALENDAR
VERSION:2.0
PRODID:-//wp-events-plugin.com//7.2.3.1//EN
TZID:Europe/Berlin
X-WR-TIMEZONE:Europe/Berlin
BEGIN:VEVENT
UID:6@urologie-gestalten-digital.de
DTSTART;TZID=Europe/Berlin:20201117T183000
DTEND;TZID=Europe/Berlin:20201117T213000
DTSTAMP:20201109T095836Z
URL:https://urologie-gestalten-digital.de/veranstaltungen/sgdu-fachgesprae
 ch-berlin-sitzung-lv-berlin/
SUMMARY:SgDU-Fachgespräch Berlin / Sitzung LV Berlin
DESCRIPTION:Anmeldung\n\n[gotowebinar-reg key="8645298711741033227"]
CATEGORIES:Arzt &amp; Ärztin
END:VEVENT
BEGIN:VTIMEZONE
TZID:Europe/Berlin
X-LIC-LOCATION:Europe/Berlin
BEGIN:STANDARD
DTSTART:20201025T020000
TZOFFSETFROM:+0200
TZOFFSETTO:+0100
TZNAME:CET
END:STANDARD
END:VTIMEZONE
END:VCALENDAR