BEGIN:VCALENDAR
VERSION:2.0
PRODID:-//wp-events-plugin.com//7.2.3.1//EN
TZID:Europe/Berlin
X-WR-TIMEZONE:Europe/Berlin
BEGIN:VEVENT
UID:4@urologie-gestalten-digital.de
DTSTART;TZID=Europe/Berlin:20201114T090000
DTEND;TZID=Europe/Berlin:20201114T120000
DTSTAMP:20201108T122737Z
URL:https://urologie-gestalten-digital.de/veranstaltungen/online-forum-5-u
 rologisches-herbstforum/
SUMMARY:Online-Forum: 5. Urologisches Herbstforum
DESCRIPTION:Die UroJahresforen sind eine Erfolgsgeschichte\, die im Jahr 20
 00 im Norden Deutschlands begann. Urologinnen und Urologen aus Niederlassu
 ngen und Kliniken genießen seitdem Jahr für Jahr das ganz besondere Feel
 ing des Dabeiseins. Auf der einen Seite werden urologische Highlights und 
 neueste Forschungsergebnisse von renommierten Kolleginnen und Kollegen pr
 äsentiert und auf der anderen Seite ermöglicht der vom Berufsverband der
  Urologen e.V. gesteckte Rahmen einen Austausch unter Kolleginnen und Koll
 egen\, der seinesgleichen sucht. Wann immer es nötig scheint\, kommen sel
 bstverständlich auch gesundheitspolitische Themen nicht zu kurz. Freuen S
 ie sich mit uns gemeinsam auf ein neues Kapitel dieser Erfolgsgeschichte.\
 nDiesmal LIVE-ONLINE\n\nUnser 5. Urologisches Herbstforum mit dem Schwerpu
 nkt „Onkologie-Update“ findet am Samstag\, den 14.11.2020 von 9:00 –
  12:00 Uhr als Online-Fortbildung statt. Aufgrund der momentanen Lage und 
 der neuen Corona-Bestimmungen mussten wir uns dazu entschließen\, die gep
 lante Präsenzveranstaltung in Stuttgart in ein Live-Webinar umzuwandeln.\
 n\n\n\nDie Online-Vorträge unserer Referenten stehen ganz im Zeichen der 
 Onkologie. Themen sind unter anderem Updates zum Prostata-\, Blasen- oder 
 Urothelkarzinom.\n\n\n\nAußerdem geben wir Ihnen wir Ihnen einen Überbli
 ck über die aktuellen Impfempfehlungen der STIKO sowie den Stand der Imp
 fstoffentwicklung gegen SARS CoV2.\n\n\n\nNatürlich besteht auch für Sie
  im Rahmen der Veranstaltung die Möglichkeit\, zur Diskussion und zum „
 virtuellen“ Austausch mit den Referenten und anderen Teilnehmern.\n\n\n\
 nHinweise:\n\n\n\n\nNach erfolgter Anmeldung erhalten Sie spätestens 1 Ta
 g vor der Veranstaltung die Zugangsdaten.\nSollten Sie bereits für die Pr
 äsenzveranstaltung angemeldet sein\, müssen Sie nichts weiter veranlasse
 n.\n\n\n\n\nWir freuen uns auf ein spannendes\, informatives und erkenntni
 sreiches Online-Herbstforum und hoffen\, dass wir Sie im kommenden Jahr wi
 eder „live“ und persönlich in Stuttgart begrüßen können.\nProgramm
 \n\n[sdm_download id="1571" fancy="0"]\nAnmeldung\n[show_more color="#3872
 59" more="Jetzt registrieren!" less="Registrierung schließen"] [/show_mor
 e]
CATEGORIES:Arzt &amp; Ärztin
END:VEVENT
BEGIN:VTIMEZONE
TZID:Europe/Berlin
X-LIC-LOCATION:Europe/Berlin
BEGIN:STANDARD
DTSTART:20201025T020000
TZOFFSETFROM:+0200
TZOFFSETTO:+0100
TZNAME:CET
END:STANDARD
END:VTIMEZONE
END:VCALENDAR