BEGIN:VCALENDAR
VERSION:2.0
PRODID:-//wp-events-plugin.com//7.2.3.1//EN
TZID:Europe/Berlin
X-WR-TIMEZONE:Europe/Berlin
BEGIN:VEVENT
UID:5@urologie-gestalten-digital.de
DTSTART;TZID=Europe/Berlin:20201114T133000
DTEND;TZID=Europe/Berlin:20201114T180000
DTSTAMP:20201108T125633Z
URL:https://urologie-gestalten-digital.de/veranstaltungen/live-webinar-gru
 ndlagentraining-transurethrale-therapie-mit-botulinumtoxin/
SUMMARY:Live-Webinar: Grundlagentraining Transurethrale Therapie mit Botuli
 numtoxin
DESCRIPTION:Die Veranstaltung findet online statt. Den Zugangscode zur Vera
 nstaltung erhalten Sie nach der Anmeldung.\n\nZum 1. Januar 2018 wurde die
  Botox-Behandlung bei bestimmten Blasenfunktionsstörungen als neue Leistu
 ng in den EBM aufgenommen. Für Urologen wurden drei neue Gebührenordnung
 spositionen (GOP) im EBM aufgenommen.\n\nDie Berechnung der neuen GOP 2631
 6 setzt eine Genehmgiung der Ihrer zuständigen Kassenärztlichen Vereinig
 ung voraus. Die Genehmigung wird erteilt\, wenn jährlich die Teilnahme an
  von der jeweiligen Landesärztekammer anerkannten Fortbildungen zur Thera
 pie von Blasenfunktionsstörungen im Umfang von insgesamt mind. 8 CME-Punk
 ten nachgewiesen wird.\n\nDie Vergütung der GOPn erfolgt extrabudgetär.\
 n\nEine Fortbildung\, die sowohl auf die wesentlichen Voraussetzungen für
  die Durchführung der transurethralen Therapie mit Botulinumtoxin genauso
  eingeht wie auch auf die praktische Durchführung.\n\nCME-Punkte werden b
 eantragt.\nAnmeldung\n\n\nMit freundlicher Unterstützung von:\n
CATEGORIES:Arzt &amp; Ärztin
END:VEVENT
BEGIN:VTIMEZONE
TZID:Europe/Berlin
X-LIC-LOCATION:Europe/Berlin
BEGIN:STANDARD
DTSTART:20201025T020000
TZOFFSETFROM:+0200
TZOFFSETTO:+0100
TZNAME:CET
END:STANDARD
END:VTIMEZONE
END:VCALENDAR